BEGIN:VCALENDAR
VERSION:2.0
PRODID:-//West Shore Cafe - ECPv6.14.0//NONSGML v1.0//EN
CALSCALE:GREGORIAN
METHOD:PUBLISH
X-ORIGINAL-URL:https://www.westshorecafe.com
X-WR-CALDESC:Events for West Shore Cafe
REFRESH-INTERVAL;VALUE=DURATION:PT1H
X-Robots-Tag:noindex
X-PUBLISHED-TTL:PT1H
BEGIN:VTIMEZONE
TZID:America/Los_Angeles
BEGIN:DAYLIGHT
TZOFFSETFROM:-0800
TZOFFSETTO:-0700
TZNAME:PDT
DTSTART:20220313T100000
END:DAYLIGHT
BEGIN:STANDARD
TZOFFSETFROM:-0700
TZOFFSETTO:-0800
TZNAME:PST
DTSTART:20221106T090000
END:STANDARD
END:VTIMEZONE
BEGIN:VEVENT
DTSTART;VALUE=DATE:20221004
DTEND;VALUE=DATE:20221005
DTSTAMP:20260419T214145
CREATED:20220914T172644Z
LAST-MODIFIED:20220914T173412Z
UID:10759-1664841600-1664927999@www.westshorecafe.com
SUMMARY:Closed
DESCRIPTION:
URL:https://www.westshorecafe.com/event/closed-14/
LOCATION:West Shore Cafe\, 5160 West Lake Blvd\, Homewood\, CA\, 96141\, United States
END:VEVENT
BEGIN:VEVENT
DTSTART;TZID=America/Los_Angeles:20221008T160000
DTEND;TZID=America/Los_Angeles:20221008T210000
DTSTAMP:20260419T214145
CREATED:20220914T173031Z
LAST-MODIFIED:20220914T173151Z
UID:10773-1665244800-1665262800@www.westshorecafe.com
SUMMARY:Dinner
DESCRIPTION:
URL:https://www.westshorecafe.com/event/dinner-13/
LOCATION:West Shore Cafe\, 5160 West Lake Blvd\, Homewood\, CA\, 96141\, United States
END:VEVENT
BEGIN:VEVENT
DTSTART;VALUE=DATE:20221010
DTEND;VALUE=DATE:20221011
DTSTAMP:20260419T214145
CREATED:20220914T172017Z
LAST-MODIFIED:20220914T172804Z
UID:10757-1665360000-1665446399@www.westshorecafe.com
SUMMARY:Closed for a private event
DESCRIPTION:
URL:https://www.westshorecafe.com/event/closed-for-a-private-event-9/
LOCATION:West Shore Cafe\, 5160 West Lake Blvd\, Homewood\, CA\, 96141\, United States
CATEGORIES:Closed
END:VEVENT
END:VCALENDAR